BEGIN:VCALENDAR
VERSION:2.0
PRODID:iSi AS
BEGIN:VEVENT
UID:acea62cc-96e3-49b2-8e02-dbc570b486ef
DTSTAMP:20260421T170925Z
SUMMARY;LANGUAGE=no-nb:Quislings Siste Dager
LOCATION:Åndalsnes
GEO:62.565318;7.688894
DTSTART:20240920T180000Z
DTEND:20240920T180000Z
CATEGORIES:Kino
ORGANIZER;CN=Åndalsnes Kino:mailto:kaskjer@ibricks.no
URL:https://kaskjer.rauma.no/kaskjer/C520E0C32E840746C1258B9A004ACF8B
END:VEVENT
END:VCALENDAR
