BEGIN:VCALENDAR
VERSION:2.0
PRODID:iSi AS
BEGIN:VEVENT
UID:1baae684-15f4-4644-af42-129b0a533aa1
DTSTAMP:20260420T050938Z
SUMMARY;LANGUAGE=no-nb:Tilskuddskurs for frivilligheten (tilskuddsmidler\, 
 søknadsskriving og kulturmidler) 
LOCATION:Åndalsnes
DTSTART:20260421T153000Z
DTEND:20260421T173000Z
CATEGORIES:Kurs
ORGANIZER;CN=Rauma frivilligsentral:mailto:kaskjer@ibricks.no
URL:https://kaskjer.rauma.no/kaskjer/6E3D1958AAB99D73C1258DD9003401E4
END:VEVENT
END:VCALENDAR
